BEGIN:VCALENDAR
VERSION:2.0
PRODID:-//Contratero//ES
CALSCALE:GREGORIAN
METHOD:PUBLISH
BEGIN:VEVENT
UID:22 010 SR RR AB UT21@contratero.es
DTSTAMP:20260423T080649Z
DTSTART:20220330T235959
DTEND:20220331T005959
SUMMARY:Cierre: Servicio de mantenimiento integral del sistema int
DESCRIPTION:Servicio de mantenimiento integral del sistema intercomunicado de registro de entrada y salida de documentos (Hiperreg) de la Administración Pública de la Comunidad Autónoma de Canarias\, cofinanciado ...\\n\\nOrganismo: Dirección General de Telecomunicaciones y Nuevas Tecnologías\\n\\nVer en Contratero: https://contratero.es/contracts/22 010 SR RR AB UT21
URL:https://contratero.es/contracts/22 010 SR RR AB UT21
STATUS:CONFIRMED
BEGIN:VALARM
TRIGGER:-P1D
ACTION:DISPLAY
DESCRIPTION:Recordatorio: Servicio de mantenimiento inte
END:VALARM
END:VEVENT
END:VCALENDAR